BEGIN:VCALENDAR
VERSION:2.0
PRODID:-//Strategic Institute For Public Health Education and Research - ECPv6.2.1//NONSGML v1.0//EN
CALSCALE:GREGORIAN
METHOD:PUBLISH
X-WR-CALNAME:Strategic Institute For Public Health Education and Research
X-ORIGINAL-URL:https://sipherglobal.org
X-WR-CALDESC:Events for Strategic Institute For Public Health Education and Research
REFRESH-INTERVAL;VALUE=DURATION:PT1H
X-Robots-Tag:noindex
X-PUBLISHED-TTL:PT1H
BEGIN:VTIMEZONE
TZID:UTC
BEGIN:STANDARD
TZOFFSETFROM:+0000
TZOFFSETTO:+0000
TZNAME:UTC
DTSTART:20200101T000000
END:STANDARD
END:VTIMEZONE
BEGIN:VEVENT
DTSTART;TZID=UTC:20200908T110000
DTEND;TZID=UTC:20200908T130000
DTSTAMP:20260425T133403
CREATED:20200902T092530Z
LAST-MODIFIED:20200905T052947Z
UID:794-1599562800-1599570000@sipherglobal.org
SUMMARY:Webinar on Health Journalism in the times of COVID
DESCRIPTION:Writing well is not just about getting every word and sentence right first time. It indeed takes a lot of practice. Through your research\, hard work and technical knowledge\, you can produce excellent stats and insightful data. However\, if you don’t present this well\, you risk confusing your reader and wasting your hard work.\nIn order to write some exceptional reports\, we all need to first address the key challenges we face when we start writing something. \nWriting well is not just about getting every word and sentence right first time. It indeed takes a lot of practice. Through your research\, hard work and technical knowledge\, you can produce excellent stats and insightful data. However\, if you don’t present this well\, you risk confusing your reader and wasting your hard work. \nIn order to write some exceptional reports\, we all need to first address the key challenges we face when we start writing something. \nObjectives: \n\nHow to write effective and efficient news articles\nWriting engaging news stories for your readers\nPresenting your information with maximum impact\n\nTarget Audience: \nThe main target audience for this webinar will be media professionals\, aspiring journalists\, public health professionals\, academicians\, and researchers \nExpected Outcome: \nWe expect all the audience to understand what all is required while writing a specific news article for engaging the readers.
URL:https://sipherglobal.org/event/webinar-on-health-journalism-in-the-times-of-covid/
LOCATION:YouTube Live
ATTACH;FMTTYPE=image/jpeg:https://sipherglobal.org/wp-content/uploads/2020/09/WebinarOnHealthJournalismInCOVID_optimized.jpeg
END:VEVENT
END:VCALENDAR