BEGIN:VCALENDAR
VERSION:2.0
PRODID:-//Strategic Institute For Public Health Education and Research - ECPv6.2.1//NONSGML v1.0//EN
CALSCALE:GREGORIAN
METHOD:PUBLISH
X-WR-CALNAME:Strategic Institute For Public Health Education and Research
X-ORIGINAL-URL:https://sipherglobal.org
X-WR-CALDESC:Events for Strategic Institute For Public Health Education and Research
REFRESH-INTERVAL;VALUE=DURATION:PT1H
X-Robots-Tag:noindex
X-PUBLISHED-TTL:PT1H
BEGIN:VTIMEZONE
TZID:UTC
BEGIN:STANDARD
TZOFFSETFROM:+0000
TZOFFSETTO:+0000
TZNAME:UTC
DTSTART:20200101T000000
END:STANDARD
TZID:Asia/Kolkata
BEGIN:STANDARD
TZOFFSETFROM:+0530
TZOFFSETTO:+0530
TZNAME:IST
DTSTART:20230101T000000
END:STANDARD
END:VTIMEZONE
BEGIN:VEVENT
DTSTART;TZID=UTC:20231011T160000
DTEND;TZID=UTC:20231011T170000
DTSTAMP:20260423T233145
CREATED:20231001T072513Z
LAST-MODIFIED:20231001T074859Z
UID:2996-1697040000-1697043600@sipherglobal.org
SUMMARY:Webinar on "Good\, Replicable and Innovative Practices of Tobacco Control in India"
DESCRIPTION:Topic:- Tobacco Vender Licensing: Experience across Various States of India. \nStrategic Institute for Public Health Education and Research (SIPHER)\, E-Resource Centre for Tobacco Control (E-RCTC) under the Department of Community Medicine & School of Public Health\, PGIMER Chandigarh are organizing a Program on “Induction Program in Tobacco Cessation (IPTC)”  \n  \nPresenter: Dr Nidhi Sejpal Pouranik\, Former Technical Consultant at Ministry of Health & Family Welfare (MoHFW)\, Delhi \n  \nRegister Now:- https://iecho.org/public/program/PRGM16799963482051CPEK6NA35
URL:https://sipherglobal.org/event/webinar-on-good-replicable-and-innovative-practices-of-tobacco-control-in-india/
END:VEVENT
BEGIN:VEVENT
DTSTART;TZID=UTC:20231004T160000
DTEND;TZID=UTC:20231004T170000
DTSTAMP:20260423T233145
CREATED:20231001T071804Z
LAST-MODIFIED:20231001T074946Z
UID:2982-1696435200-1696438800@sipherglobal.org
SUMMARY:Induction Program in Tobacco Cessation (IPTC)
DESCRIPTION:Topic:- Adverse effects of Tobacco and E-cigarettes\, and Economic implications of Tobacco Use \nStrategic Institute for Public Health Education and Research (SIPHER)\, E-Resource Centre for Tobacco Control (E-RCTC) under the Department of Community Medicine & School of Public Health\, PGIMER Chandigarh are organizing a Program on “Induction Program in Tobacco Cessation (IPTC)”  \nChief Guest: Prof. H.L. Verma\, President (Vice-Chancellor)\, Jagannath University\, Jaipur. \nPresenter: Prof. Dr Sonu Goel\, Department of Community Medicine & School of Public Health Postgraduate Institute of Medical Education & Research (PGIMER) \n  \nNote: Classic ECHO Link will be shared with registered participants
URL:https://sipherglobal.org/event/induction-program-in-tobacco-cessation-iptc/
END:VEVENT
BEGIN:VEVENT
DTSTART;TZID=Asia/Kolkata:20230927T160000
DTEND;TZID=Asia/Kolkata:20230927T170000
DTSTAMP:20260423T233145
CREATED:20230919T124138Z
LAST-MODIFIED:20230926T125831Z
UID:2519-1695830400-1695834000@sipherglobal.org
SUMMARY:SIPHER-ECHO webinar on "Good\, Replicable and Innovative Practices of Tobacco Control in India"
DESCRIPTION:Strategic Institute for Public Health Education and Research (SIPHER)\, E-Resource Centre for Tobacco Control (E-RCTC) under the Department of Community Medicine & School of Public Health\, PGIMER Chandigarh are organizing a webinar on “SIPHER-ECHO webinar on “Good\, Replicable and Innovative Practices of Tobacco Control in India”. \nPRESENTER\nMr. Mukesh Kumar Sinha\nExecutive Director\, Madhya Pradesh\nVoluntary Health Association\,\nMadhya Pradesh \ncontact: sipher2018@gmail.com
URL:https://sipherglobal.org/event/sipher-echo-webinar-on-good-replicable-and-innovative-practices-of-tobacco-control-in-india/
ATTACH;FMTTYPE=image/png:https://sipherglobal.org/wp-content/uploads/2023/09/Poster-for-Webinar-of-Mr-Mukesh-Kumar-Sinha.png
END:VEVENT
BEGIN:VEVENT
DTSTART;TZID=UTC:20230920T160000
DTEND;TZID=UTC:20230920T170000
DTSTAMP:20260423T233145
CREATED:20230919T123314Z
LAST-MODIFIED:20230919T123314Z
UID:2516-1695225600-1695229200@sipherglobal.org
SUMMARY:SIPHER ECHO RCTC Induction Program in Tobacco Cessation (IPTC)
DESCRIPTION:Program Overview\nIPTC has been planned to induct Health Care Professionals (HCPs) and to empower them to intervene with population using tobacco in any form\, motivate and guide them for evidence based long term cessation. The sessions will include interaction with cessation experts and Public Health experts who will enlighten about the subject matter and enlist a few important cases where timely cessation had helped patients to prevent complications of tobacco consumption including cardio vascular diseases\, lung ailments\, stroke\, cancer etc. \nTopics Covered: The course will include 11 sessions including a pre-launch. Each session will have a didactic presentation followed by a case study discussion.\nTarget Audience: Medical Doctors and Dental Surgeons working in Govt./Private facilities\, interested in Tobacco Cessation Pan India\nCertification & Credits: YES\nContact Information: sipher2018@gmail.com
URL:https://sipherglobal.org/event/sipher-echo-rctc-induction-program-in-tobacco-cessation-iptc/
ATTACH;FMTTYPE=image/jpeg:https://sipherglobal.org/wp-content/uploads/2023/09/Banner.jpg
END:VEVENT
BEGIN:VEVENT
DTSTART;TZID=UTC:20220820T100000
DTEND;TZID=UTC:20220820T170000
DTSTAMP:20260423T233145
CREATED:20220718T124143Z
LAST-MODIFIED:20220727T131538Z
UID:1385-1660989600-1661014800@sipherglobal.org
SUMMARY:'Induction program in Tobacco Cessation' (IPTC)   Organized by: Strategic Institute for Public Health Education & Research (SIPHER)\, E- RCTC PGI Chandigarh and Centre for Public Health\, Panjab University Chandigarh  Supported by Oral Health Sciences Centre\,PGIMER Chandig Venue: Dr Mulk Raj Anand Auditorium\,English Department\, Panjab University Chandigarh  Date: 20th August Sat 10.30 AM to 5:00 PM
DESCRIPTION:
URL:https://sipherglobal.org/event/induction-program-in-tobacco-cessation-iptc-organized-by-strategic-institute-for-public-health-education-research-sipher-e-rctc-pgi-chandigarh-and-centre-for-public-health-panjab-unive/
END:VEVENT
BEGIN:VEVENT
DTSTART;TZID=UTC:20210714T113000
DTEND;TZID=UTC:20210714T140000
DTSTAMP:20260423T233145
CREATED:20210712T022358Z
LAST-MODIFIED:20210712T044722Z
UID:1131-1626262200-1626271200@sipherglobal.org
SUMMARY:Sensitization workshop  of Journalist on Front of packing labelling
DESCRIPTION:
URL:https://sipherglobal.org/event/sensitization-workshop-of-journalist-on-front-of-packing-labelling/
ATTACH;FMTTYPE=image/jpeg:https://sipherglobal.org/wp-content/uploads/2021/07/Sensitization-Workshop-of-Journalists-on-‘Front-of-Package-Labelling’-14th-July-2021-1.jpg
END:VEVENT
BEGIN:VEVENT
DTSTART;TZID=UTC:20210220T110000
DTEND;TZID=UTC:20210220T123000
DTSTAMP:20260423T233145
CREATED:20210223T065224Z
LAST-MODIFIED:20210223T065224Z
UID:1017-1613818800-1613824200@sipherglobal.org
SUMMARY:National Consultation on Tobacco Vendor Licensing (TVL) in India
DESCRIPTION:One step near to the #Endgametobacco (TVL Current status\, Challenges and Way Forward)
URL:https://sipherglobal.org/event/national-consultation-on-tobacco-vendor-licensing-tvl-in-india/
ATTACH;FMTTYPE=image/jpeg:https://sipherglobal.org/wp-content/uploads/2021/02/TVL-Consulation-Webinar.jpg
END:VEVENT
BEGIN:VEVENT
DTSTART;TZID=UTC:20210206T110000
DTEND;TZID=UTC:20210206T123000
DTSTAMP:20260423T233145
CREATED:20210206T082147Z
LAST-MODIFIED:20210206T082147Z
UID:1011-1612609200-1612614600@sipherglobal.org
SUMMARY:National Consultation on Smokeless Tobacco use\, attributed to 90% oral cancers: Challenges in implementation of COTPA and the ban under provisions of FSSAI
DESCRIPTION:It is being organized by Strategic Institute of Public Health Education and Research (SIPHER)\, E-Resource Centre\nfor Tobacco Control (E-RCTC) under Department of Community Medicine & School of Public Health\, PGIMER\nChandigarh\, and The Union South-East Asia (The Union) Smokeless tobacco (SLT) contributes to the global burden of disease\, disability and death\, with the highest-burden on India and the Southeast Asia region. It is attributed to 90% of oral cancers. India has taken tobacco control steps both at national and sub-national levels which has resulted in a significant reduction in tobacco use between 2009- 2010 and 2016-2017 but with wide regional variations. \nThere is a wide gap in existing SLT control policies and their enforcement due to lack of research\, training\,\ncapacity and adequate resources. Several tobacco control policies applicable to smoking products hitherto did not\napply to SLT products. \nHigh SLT burden countries including India\, especially its 13 high SLT burden states\, should adopt and implement\ncomprehensive tobacco control policies in line with WHO Framework Convention for Tobacco Control (FCTC)\nand beyond to curb SLT use. \nGreater policy focus and multi-stakeholder commitment for SLT control research\, training\, capacity and resources\nwill help high SLT burden countries meet their WHO FCTC obligations.\nIn this background\, we have planned a virtual National Consultation on “Smokeless Tobacco use attributed to 90%\noral cancers: Challenges in implementation of COTPA and the ban under provisions of FSSAI” on 6th February\n2021” This virtual consultation will be for 90 Minutes. It will be streamed live on YouTube.
URL:https://sipherglobal.org/event/national-consultation-on-smokeless-tobacco-use-attributed-to-90-oral-cancers-challenges-in-implementation-of-cotpa-and-the-ban-under-provisions-of-fssai/
ATTACH;FMTTYPE=image/jpeg:https://sipherglobal.org/wp-content/uploads/2021/02/National_Consulation_on_Smokless_Tobacco-scaled.jpg
END:VEVENT
BEGIN:VEVENT
DTSTART;TZID=UTC:20210129T143000
DTEND;TZID=UTC:20210129T160000
DTSTAMP:20260423T233145
CREATED:20210201T023415Z
LAST-MODIFIED:20210201T023415Z
UID:1006-1611930600-1611936000@sipherglobal.org
SUMMARY:Virtual Dialogue
DESCRIPTION:A “Virtual Dialogue in Support of amendments in COTPA Act 2003: Need of the hour” is scheduled to be held on 29th January\, 2021 I Timing: 14.30 Hours to 16.00 Hours organized by E-Resource Centre for Tobacco Control (E-RCTC) under Department of Community Medicine & School of Public Health\, PGIMER Chandigarh\, The Union South-East Asia (The Union) and Strategic Institute of Public Health Education and Research (SIPHER)
URL:https://sipherglobal.org/event/virtual-dialogue/
ATTACH;FMTTYPE=image/jpeg:https://sipherglobal.org/wp-content/uploads/2021/02/COTPA.jpg
END:VEVENT
BEGIN:VEVENT
DTSTART;TZID=UTC:20201221T110000
DTEND;TZID=UTC:20201221T123000
DTSTAMP:20260423T233145
CREATED:20201221T042937Z
LAST-MODIFIED:20201221T042937Z
UID:999-1608548400-1608553800@sipherglobal.org
SUMMARY:National Consultation on the Human Rights Dimension of Tobacco Control
DESCRIPTION:Strategic Institute of Public Health Education and Research (SIPHER)\, E-Resource Centre for Tobacco Control (E-RCTC) under Department of Community Medicine & School of Public Health\, PGIMER Chandigarh\, and The Union South-East Asia (The Union) has organised the key consultion for leveraging human rights law to advance the WHO FCTC implementation.
URL:https://sipherglobal.org/event/national-consultation-on-the-human-rights-dimension-of-tobacco-control/
LOCATION:YouTube Live
ATTACH;FMTTYPE=image/jpeg:https://sipherglobal.org/wp-content/uploads/2020/12/webinar.jpeg
END:VEVENT
BEGIN:VEVENT
DTSTART;TZID=UTC:20201219T100000
DTEND;TZID=UTC:20201219T130000
DTSTAMP:20260423T233145
CREATED:20201218T090506Z
LAST-MODIFIED:20201218T090506Z
UID:989-1608372000-1608382800@sipherglobal.org
SUMMARY:Virtual Research Dissemination Workshop: Hypertension and Trans fat Elimination
DESCRIPTION:Key Session of the “Virtual Research Dissemination Workshop: Hypertension and Trans fat Elimination” as follows \n1. Initiation by Govt. of India in advancing Hypertension Services\n2. TFA regulation in the state of Punjab\n3. Status of NPCDCS program in the state of Punjab-with special reference to hypertension and cardiovascular diseases\n4. Role of media in prevention and control of cardiovascular diseases in the state of Punjab
URL:https://sipherglobal.org/event/virtual-research-dissemination-workshop-hypertension-and-trans-fat-elimination/
LOCATION:YouTube Live
ATTACH;FMTTYPE=image/jpeg:https://sipherglobal.org/wp-content/uploads/2020/12/Banner-original.jpeg
END:VEVENT
BEGIN:VEVENT
DTSTART;TZID=UTC:20200929T120000
DTEND;TZID=UTC:20200929T133000
DTSTAMP:20260423T233145
CREATED:20200928T031937Z
LAST-MODIFIED:20200928T031937Z
UID:909-1601380800-1601386200@sipherglobal.org
SUMMARY:Webinar on Hypertension and Cardiovascular Complications
DESCRIPTION:Hypertension is the most important risk factor for major forms of cardiovascular diseases (CVDs)\, highly prevalent and attributable to nearly half of the deaths from non-communicable diseases. Heart conditions caused by high blood pressure are referred to as Hypertensive heart disease. The term is rather not alien\, in fact\, incorporates common titles as heart failure\, stroke\, heart attack\, blockage in heart muscle etc.\nAwareness and diagnosis are keys to a safe route. Many patients spent years without even knowing that hypertension is taking a toll on their cardiovascular health. It is imperative to identify\, disseminate and implement more effective approaches to achieve optimal control of the condition. \nWith this background and an urgency to deal with it\, the Department of Community Medicine and School of Public Health in collaboration with Strategic Institute of Public Health Education and Research (SIPHER)\, Chandigarh will be hosting a webinar on ‘Hypertension and Cardiovascular Complications’. Eminent Cardiologists and faculty from PGIMER and will be sharing the cardiovascular complications related to hypertension and ways to deal with them.
URL:https://sipherglobal.org/event/webinar-on-hypertension-and-cardiovascular-complications/
ATTACH;FMTTYPE=image/jpeg:https://sipherglobal.org/wp-content/uploads/2020/09/World-heart-day.jpeg
END:VEVENT
BEGIN:VEVENT
DTSTART;TZID=UTC:20200925T080000
DTEND;TZID=UTC:20200926T170000
DTSTAMP:20260423T233145
CREATED:20200916T070813Z
LAST-MODIFIED:20200916T070923Z
UID:883-1601020800-1601139600@sipherglobal.org
SUMMARY:5th National Conference on Tobacco or Health )Virtual
DESCRIPTION:The two-day scientific programme will focus on diverse public health issues and challenges in tobacco control at the national and sub-national level along with context-specific solutions for their replication towards achieving tobacco free environments. The conference format will include plenary sessions\, panel discussions\, symposia\, oral presentation\, poster discussion\, and workshops on many aspects of tobacco control which will pave the way towards building effective policy and program.
URL:https://sipherglobal.org/event/5th-national-conference-on-tobacco-or-health-virtual/
ATTACH;FMTTYPE=image/jpeg:https://sipherglobal.org/wp-content/uploads/2020/09/NCTOH-Flyer-1-1.jpg
END:VEVENT
BEGIN:VEVENT
DTSTART;TZID=UTC:20200909T150000
DTEND;TZID=UTC:20200909T163000
DTSTAMP:20260423T233145
CREATED:20200902T094646Z
LAST-MODIFIED:20200905T052836Z
UID:800-1599663600-1599669000@sipherglobal.org
SUMMARY:Virtual Celebration of Eye Donation Fortnight (EDF)
DESCRIPTION:The National Eye Donation Fortnight is observed every year from 25th August to 8th September. It is a campaign that aims to create mass public awareness about the importance of eye donation and to motivate all the people to pledge their eyes for donation after death\, so that many blind people can get a gift of sight. \nSchool of Public Health PGIMER\, Chandigarh plans a Virtual Celebration of Eye Donation Fortnight (EDF) 2020 on 9th September at 3.00 PM by honouring good performing Corneal Surgeons in Punjab and UT Chandigarh\,  in collaboration with NPCBVI Punjab & UT Chandigarh\,Rotary Eye Bank and Hospital Hoshiarpur and Strategic Instt. for Public Health Education and Research (SIPHER)
URL:https://sipherglobal.org/event/virtual-celebration-of-eye-donation-fortnight-edf/
ATTACH;FMTTYPE=image/jpeg:https://sipherglobal.org/wp-content/uploads/2020/09/Virtual_CelebrationOn_Eye_donation_optimized.jpeg
END:VEVENT
BEGIN:VEVENT
DTSTART;TZID=UTC:20200908T110000
DTEND;TZID=UTC:20200908T130000
DTSTAMP:20260423T233145
CREATED:20200902T092530Z
LAST-MODIFIED:20200905T052947Z
UID:794-1599562800-1599570000@sipherglobal.org
SUMMARY:Webinar on Health Journalism in the times of COVID
DESCRIPTION:Writing well is not just about getting every word and sentence right first time. It indeed takes a lot of practice. Through your research\, hard work and technical knowledge\, you can produce excellent stats and insightful data. However\, if you don’t present this well\, you risk confusing your reader and wasting your hard work.\nIn order to write some exceptional reports\, we all need to first address the key challenges we face when we start writing something. \nWriting well is not just about getting every word and sentence right first time. It indeed takes a lot of practice. Through your research\, hard work and technical knowledge\, you can produce excellent stats and insightful data. However\, if you don’t present this well\, you risk confusing your reader and wasting your hard work. \nIn order to write some exceptional reports\, we all need to first address the key challenges we face when we start writing something. \nObjectives: \n\nHow to write effective and efficient news articles\nWriting engaging news stories for your readers\nPresenting your information with maximum impact\n\nTarget Audience: \nThe main target audience for this webinar will be media professionals\, aspiring journalists\, public health professionals\, academicians\, and researchers \nExpected Outcome: \nWe expect all the audience to understand what all is required while writing a specific news article for engaging the readers.
URL:https://sipherglobal.org/event/webinar-on-health-journalism-in-the-times-of-covid/
LOCATION:YouTube Live
ATTACH;FMTTYPE=image/jpeg:https://sipherglobal.org/wp-content/uploads/2020/09/WebinarOnHealthJournalismInCOVID_optimized.jpeg
END:VEVENT
END:VCALENDAR