BEGIN:VCALENDAR
VERSION:2.0
PRODID:-//Strategic Institute For Public Health Education and Research - ECPv6.2.1//NONSGML v1.0//EN
CALSCALE:GREGORIAN
METHOD:PUBLISH
X-ORIGINAL-URL:https://sipherglobal.org
X-WR-CALDESC:Events for Strategic Institute For Public Health Education and Research
REFRESH-INTERVAL;VALUE=DURATION:PT1H
X-Robots-Tag:noindex
X-PUBLISHED-TTL:PT1H
BEGIN:VTIMEZONE
TZID:UTC
BEGIN:STANDARD
TZOFFSETFROM:+0000
TZOFFSETTO:+0000
TZNAME:UTC
DTSTART:20220101T000000
END:STANDARD
END:VTIMEZONE
BEGIN:VEVENT
DTSTART;TZID=UTC:20220820T100000
DTEND;TZID=UTC:20220820T170000
DTSTAMP:20260426T031623
CREATED:20220718T124143Z
LAST-MODIFIED:20220727T131538Z
UID:1385-1660989600-1661014800@sipherglobal.org
SUMMARY:'Induction program in Tobacco Cessation' (IPTC)   Organized by: Strategic Institute for Public Health Education & Research (SIPHER)\, E- RCTC PGI Chandigarh and Centre for Public Health\, Panjab University Chandigarh  Supported by Oral Health Sciences Centre\,PGIMER Chandig Venue: Dr Mulk Raj Anand Auditorium\,English Department\, Panjab University Chandigarh  Date: 20th August Sat 10.30 AM to 5:00 PM
DESCRIPTION:
URL:https://sipherglobal.org/event/induction-program-in-tobacco-cessation-iptc-organized-by-strategic-institute-for-public-health-education-research-sipher-e-rctc-pgi-chandigarh-and-centre-for-public-health-panjab-unive/
END:VEVENT
END:VCALENDAR